Workbook

Sheet 단가표
A1: 수산·식자재 단가표 양식 — 단가수첩(danganote.com) 무료 양식. 노란 칸만 입력하면 kg당은 자동 계산돼요.
A2: 받은 날짜 | B2: 업체 | C2: 품목 | D2: 원산지 | E2: 가공 | F2: 규격 | G2: 포장 표기 | H2: 박스 중량(kg) | I2: 박스당(원) | J2: kg당(원) | K2: 과세/면세 | L2: 상태 | M2: 메모 | N2: 비교키(자동)
A3: 2026-10-20 | B3: A업체 | C3: 흰다리새우 | D3: 베트남 | E3: PDTO | F3: 21/25 | G3: 900g×10 | H3: 9 | I3: 115000 | J3: =IF(AND(H3>0,I3>0),ROUND(I3/H3,0),"") | K3: 면세 | L3: 판매중 | M3: 예시 | N3: =IF(C3="","",C3&"|"&D3&"|"&E3&"|"&F3&"|"&J3)
A4: 2026-10-20 | B4: B업체 | C4: 흰다리새우 | D4: 베트남 | E4: PDTO | F4: 21/25 | G4: 1.8kg×6 | H4: 10.8 | I4: 140000 | J4: =IF(AND(H4>0,I4>0),ROUND(I4/H4,0),"") | K4: 면세 | L4: 판매중 | M4: 예시 | N4: =IF(C4="","",C4&"|"&D4&"|"&E4&"|"&F4&"|"&J4)
A5: 2026-10-19 | B5: C업체 | C5: 흰다리새우 | D5: 중국 | E5: PDTO | F5: 21/25 | G5: 900g×10 | H5: 9 | I5: 108000 | J5: =IF(AND(H5>0,I5>0),ROUND(I5/H5,0),"") | K5: 면세 | L5: 쇼트 | M5: 예시 · 원산지 다름 | N5: =IF(C5="","",C5&"|"&D5&"|"&E5&"|"&F5&"|"&J5)
J6: =IF(AND(H6>0,I6>0),ROUND(I6/H6,0),"") | N6: =IF(C6="","",C6&"|"&D6&"|"&E6&"|"&F6&"|"&J6)
J7: =IF(AND(H7>0,I7>0),ROUND(I7/H7,0),"") | N7: =IF(C7="","",C7&"|"&D7&"|"&E7&"|"&F7&"|"&J7)
J8: =IF(AND(H8>0,I8>0),ROUND(I8/H8,0),"") | N8: =IF(C8="","",C8&"|"&D8&"|"&E8&"|"&F8&"|"&J8)
J9: =IF(AND(H9>0,I9>0),ROUND(I9/H9,0),"") | N9: =IF(C9="","",C9&"|"&D9&"|"&E9&"|"&F9&"|"&J9)
J10: =IF(AND(H10>0,I10>0),ROUND(I10/H10,0),"") | N10: =IF(C10="","",C10&"|"&D10&"|"&E10&"|"&F10&"|"&J10)
J11: =IF(AND(H11>0,I11>0),ROUND(I11/H11,0),"") | N11: =IF(C11="","",C11&"|"&D11&"|"&E11&"|"&F11&"|"&J11)
J12: =IF(AND(H12>0,I12>0),ROUND(I12/H12,0),"") | N12: =IF(C12="","",C12&"|"&D12&"|"&E12&"|"&F12&"|"&J12)
J13: =IF(AND(H13>0,I13>0),ROUND(I13/H13,0),"") | N13: =IF(C13="","",C13&"|"&D13&"|"&E13&"|"&F13&"|"&J13)
J14: =IF(AND(H14>0,I14>0),ROUND(I14/H14,0),"") | N14: =IF(C14="","",C14&"|"&D14&"|"&E14&"|"&F14&"|"&J14)
J15: =IF(AND(H15>0,I15>0),ROUND(I15/H15,0),"") | N15: =IF(C15="","",C15&"|"&D15&"|"&E15&"|"&F15&"|"&J15)
J16: =IF(AND(H16>0,I16>0),ROUND(I16/H16,0),"") | N16: =IF(C16="","",C16&"|"&D16&"|"&E16&"|"&F16&"|"&J16)
J17: =IF(AND(H17>0,I17>0),ROUND(I17/H17,0),"") | N17: =IF(C17="","",C17&"|"&D17&"|"&E17&"|"&F17&"|"&J17)
... J202: =IF(AND(H202>0,I202>0),ROUND(I202/H202,0),"") | N202: =IF(C202="","",C202&"|"&D202&"|"&E202&"|"&F202&"|"&J202)

Sheet 최저가 찾기
A1: 품목·원산지·가공·규격을 입력하면 단가표 시트에서 kg당 최저가와 그 업체를 찾아요 (최저가 계산 MINIFS는 엑셀 2019 이상·Microsoft 365·구글 스프레드시트)
A2: 품목 | B2: 원산지 | C2: 가공 | D2: 규격 | E2: kg당 최저가 | F2: 업체
A3: 흰다리새우 | B3: 베트남 | C3: PDTO | D3: 21/25 | E3: =IF(A3="","",_xlfn.MINIFS(단가표!$J$3:$J$202,단가표!$C$3:$C$202,A3,단가표!$D$3:$D$202,B3,단가표!$E$3:$E$202,C3,단가표!$F$3:$F$202,D3)) | F3: =IF(OR(E3="",E3=0),"",IFERROR(INDEX(단가표!$B$3:$B$202,MATCH(A3&"|"&B3&"|"&C3&"|"&D3&"|"&E3,단가표!$N$3:$N$202,0)),""))
E4: =IF(A4="","",_xlfn.MINIFS(단가표!$J$3:$J$202,단가표!$C$3:$C$202,A4,단가표!$D$3:$D$202,B4,단가표!$E$3:$E$202,C4,단가표!$F$3:$F$202,D4)) | F4: =IF(OR(E4="",E4=0),"",IFERROR(INDEX(단가표!$B$3:$B$202,MATCH(A4&"|"&B4&"|"&C4&"|"&D4&"|"&E4,단가표!$N$3:$N$202,0)),""))
E5: =IF(A5="","",_xlfn.MINIFS(단가표!$J$3:$J$202,단가표!$C$3:$C$202,A5,단가표!$D$3:$D$202,B5,단가표!$E$3:$E$202,C5,단가표!$F$3:$F$202,D5)) | F5: =IF(OR(E5="",E5=0),"",IFERROR(INDEX(단가표!$B$3:$B$202,MATCH(A5&"|"&B5&"|"&C5&"|"&D5&"|"&E5,단가표!$N$3:$N$202,0)),""))
E6: =IF(A6="","",_xlfn.MINIFS(단가표!$J$3:$J$202,단가표!$C$3:$C$202,A6,단가표!$D$3:$D$202,B6,단가표!$E$3:$E$202,C6,단가표!$F$3:$F$202,D6)) | F6: =IF(OR(E6="",E6=0),"",IFERROR(INDEX(단가표!$B$3:$B$202,MATCH(A6&"|"&B6&"|"&C6&"|"&D6&"|"&E6,단가표!$N$3:$N$202,0)),""))
E7: =IF(A7="","",_xlfn.MINIFS(단가표!$J$3:$J$202,단가표!$C$3:$C$202,A7,단가표!$D$3:$D$202,B7,단가표!$E$3:$E$202,C7,단가표!$F$3:$F$202,D7)) | F7: =IF(OR(E7="",E7=0),"",IFERROR(INDEX(단가표!$B$3:$B$202,MATCH(A7&"|"&B7&"|"&C7&"|"&D7&"|"&E7,단가표!$N$3:$N$202,0)),""))
E8: =IF(A8="","",_xlfn.MINIFS(단가표!$J$3:$J$202,단가표!$C$3:$C$202,A8,단가표!$D$3:$D$202,B8,단가표!$E$3:$E$202,C8,단가표!$F$3:$F$202,D8)) | F8: =IF(OR(E8="",E8=0),"",IFERROR(INDEX(단가표!$B$3:$B$202,MATCH(A8&"|"&B8&"|"&C8&"|"&D8&"|"&E8,단가표!$N$3:$N$202,0)),""))
E9: =IF(A9="","",_xlfn.MINIFS(단가표!$J$3:$J$202,단가표!$C$3:$C$202,A9,단가표!$D$3:$D$202,B9,단가표!$E$3:$E$202,C9,단가표!$F$3:$F$202,D9)) | F9: =IF(OR(E9="",E9=0),"",IFERROR(INDEX(단가표!$B$3:$B$202,MATCH(A9&"|"&B9&"|"&C9&"|"&D9&"|"&E9,단가표!$N$3:$N$202,0)),""))
E10: =IF(A10="","",_xlfn.MINIFS(단가표!$J$3:$J$202,단가표!$C$3:$C$202,A10,단가표!$D$3:$D$202,B10,단가표!$E$3:$E$202,C10,단가표!$F$3:$F$202,D10)) | F10: =IF(OR(E10="",E10=0),"",IFERROR(INDEX(단가표!$B$3:$B$202,MATCH(A10&"|"&B10&"|"&C10&"|"&D10&"|"&E10,단가표!$N$3:$N$202,0)),""))
E11: =IF(A11="","",_xlfn.MINIFS(단가표!$J$3:$J$202,단가표!$C$3:$C$202,A11,단가표!$D$3:$D$202,B11,단가표!$E$3:$E$202,C11,단가표!$F$3:$F$202,D11)) | F11: =IF(OR(E11="",E11=0),"",IFERROR(INDEX(단가표!$B$3:$B$202,MATCH(A11&"|"&B11&"|"&C11&"|"&D11&"|"&E11,단가표!$N$3:$N$202,0)),""))
E12: =IF(A12="","",_xlfn.MINIFS(단가표!$J$3:$J$202,단가표!$C$3:$C$202,A12,단가표!$D$3:$D$202,B12,단가표!$E$3:$E$202,C12,단가표!$F$3:$F$202,D12)) | F12: =IF(OR(E12="",E12=0),"",IFERROR(INDEX(단가표!$B$3:$B$202,MATCH(A12&"|"&B12&"|"&C12&"|"&D12&"|"&E12,단가표!$N$3:$N$202,0)),""))
E13: =IF(A13="","",_xlfn.MINIFS(단가표!$J$3:$J$202,단가표!$C$3:$C$202,A13,단가표!$D$3:$D$202,B13,단가표!$E$3:$E$202,C13,단가표!$F$3:$F$202,D13)) | F13: =IF(OR(E13="",E13=0),"",IFERROR(INDEX(단가표!$B$3:$B$202,MATCH(A13&"|"&B13&"|"&C13&"|"&D13&"|"&E13,단가표!$N$3:$N$202,0)),""))
E14: =IF(A14="","",_xlfn.MINIFS(단가표!$J$3:$J$202,단가표!$C$3:$C$202,A14,단가표!$D$3:$D$202,B14,단가표!$E$3:$E$202,C14,단가표!$F$3:$F$202,D14)) | F14: =IF(OR(E14="",E14=0),"",IFERROR(INDEX(단가표!$B$3:$B$202,MATCH(A14&"|"&B14&"|"&C14&"|"&D14&"|"&E14,단가표!$N$3:$N$202,0)),""))
E15: =IF(A15="","",_xlfn.MINIFS(단가표!$J$3:$J$202,단가표!$C$3:$C$202,A15,단가표!$D$3:$D$202,B15,단가표!$E$3:$E$202,C15,단가표!$F$3:$F$202,D15)) | F15: =IF(OR(E15="",E15=0),"",IFERROR(INDEX(단가표!$B$3:$B$202,MATCH(A15&"|"&B15&"|"&C15&"|"&D15&"|"&E15,단가표!$N$3:$N$202,0)),""))
... E32: =IF(A32="","",_xlfn.MINIFS(단가표!$J$3:$J$202,단가표!$C$3:$C$202,A32,단가표!$D$3:$D$202,B32,단가표!$E$3:$E$202,C32,단가표!$F$3:$F$202,D32)) | F32: =IF(OR(E32="",E32=0),"",IFERROR(INDEX(단가표!$B$3:$B$202,MATCH(A32&"|"&B32&"|"&C32&"|"&D32&"|"&E32,단가표!$N$3:$N$202,0)),""))

Sheet 사용법
A1: 1. 단가표 시트의 노란 칸에 받은 단가를 한 줄에 한 상품씩 입력해요.
A2: 2. 규격·포장은 받은 표기 그대로 적고, 박스 중량(kg)은 숫자만 따로 적어요 (900g×10 → 9).
A3: 3. kg당(원)은 자동 계산돼요. 박스 크기가 다른 업체도 kg당으로 비교할 수 있어요.
A4: 4. 최저가 찾기 시트에서 품목·원산지·가공·규격을 입력하면 가장 싼 업체가 나와요.
A5: 5. 같은 품목이라도 원산지·가공(HOSO/PDTO 등)·규격이 다르면 다른 상품이에요. 칸을 나눠 적어야 비교가 정확해요.
A7: 단가표가 매일 수십 장 오면 입력이 일이 돼요. 단가수첩은 카톡·사진·PDF를 올리면 이 표를 자동으로 채워 드려요 → https://danganote.com
